BEGIN:VCALENDAR
VERSION:2.0
CALSCALE:GREGORIAN
PRODID:-//Diputació de Barcelona//DibaCMS//EN
BEGIN:VEVENT
UID:2412
DTSTAMP:20260424T152335
DTSTART:20260507T180000
DTEND:20260507T200000
SUMMARY:Taller adolescents
LOCATION:
METHOD:PUBLISH
X-WR-CALNAME:st.bartomeu@diba.cat
X-WR-TIMEZONE:Europe/Madrid
DESCRIPTION:
URI:https://www.sbg.cat/actualitat/agenda/taller-adolescents.html
CLASS:PUBLIC
END:VEVENT
END:VCALENDAR
