BEGIN:VCALENDAR
VERSION:2.0
CALSCALE:GREGORIAN
PRODID:-//Diputació de Barcelona//DibaCMS//EN
BEGIN:VEVENT
UID:2380
DTSTAMP:20260421T105223
DTSTART:20260227T190000
DTEND:20260227T210000
SUMMARY:Xerrada
LOCATION:
METHOD:PUBLISH
X-WR-CALNAME:st.bartomeu@diba.cat
X-WR-TIMEZONE:Europe/Madrid
DESCRIPTION:
URI:https://www.sbg.cat/actualitat/agenda/2380-xerrada.html
CLASS:PUBLIC
END:VEVENT
END:VCALENDAR
